BEGIN:VCALENDAR
VERSION:2.0
PRODID:-//St. Ann - ECPv6.15.20//NONSGML v1.0//EN
CALSCALE:GREGORIAN
METHOD:PUBLISH
X-WR-CALNAME:St. Ann
X-ORIGINAL-URL:https://st-ann.org
X-WR-CALDESC:Events for St. Ann
REFRESH-INTERVAL;VALUE=DURATION:PT1H
X-Robots-Tag:noindex
X-PUBLISHED-TTL:PT1H
BEGIN:VTIMEZONE
TZID:America/Halifax
BEGIN:DAYLIGHT
TZOFFSETFROM:-0400
TZOFFSETTO:-0300
TZNAME:ADT
DTSTART:20250309T060000
END:DAYLIGHT
BEGIN:STANDARD
TZOFFSETFROM:-0300
TZOFFSETTO:-0400
TZNAME:AST
DTSTART:20251102T050000
END:STANDARD
BEGIN:DAYLIGHT
TZOFFSETFROM:-0400
TZOFFSETTO:-0300
TZNAME:ADT
DTSTART:20260308T060000
END:DAYLIGHT
BEGIN:STANDARD
TZOFFSETFROM:-0300
TZOFFSETTO:-0400
TZNAME:AST
DTSTART:20261101T050000
END:STANDARD
BEGIN:DAYLIGHT
TZOFFSETFROM:-0400
TZOFFSETTO:-0300
TZNAME:ADT
DTSTART:20270314T060000
END:DAYLIGHT
BEGIN:STANDARD
TZOFFSETFROM:-0300
TZOFFSETTO:-0400
TZNAME:AST
DTSTART:20271107T050000
END:STANDARD
END:VTIMEZONE
BEGIN:VEVENT
DTSTART;TZID=America/Halifax:20260511T190000
DTEND;TZID=America/Halifax:20260511T203000
DTSTAMP:20260425T094300
CREATED:20260422T162717Z
LAST-MODIFIED:20260422T162912Z
UID:15682-1778526000-1778531400@st-ann.org
SUMMARY:Prayer and Praise
DESCRIPTION:Please join us in Praising and worshipping our Lord! “Enter His gates with Thanksgiving and His courts with praise; give thanks to Him and praise His Holy name.” Psalm 100:4
URL:https://st-ann.org/event/prayer-and-praise-5/
CATEGORIES:Prayer & Praise
ATTACH;FMTTYPE=image/png:https://st-ann.org/wp-content/uploads/2026/04/Use-this-one-Approved-by-Jo-Mirabal-1.png
END:VEVENT
END:VCALENDAR