BEGIN:VCALENDAR
VERSION:2.0
PRODID:-//St. Ann - ECPv6.15.20//NONSGML v1.0//EN
CALSCALE:GREGORIAN
METHOD:PUBLISH
X-WR-CALNAME:St. Ann
X-ORIGINAL-URL:https://st-ann.org
X-WR-CALDESC:Events for St. Ann
REFRESH-INTERVAL;VALUE=DURATION:PT1H
X-Robots-Tag:noindex
X-PUBLISHED-TTL:PT1H
BEGIN:VTIMEZONE
TZID:America/Halifax
BEGIN:DAYLIGHT
TZOFFSETFROM:-0400
TZOFFSETTO:-0300
TZNAME:ADT
DTSTART:20250309T060000
END:DAYLIGHT
BEGIN:STANDARD
TZOFFSETFROM:-0300
TZOFFSETTO:-0400
TZNAME:AST
DTSTART:20251102T050000
END:STANDARD
BEGIN:DAYLIGHT
TZOFFSETFROM:-0400
TZOFFSETTO:-0300
TZNAME:ADT
DTSTART:20260308T060000
END:DAYLIGHT
BEGIN:STANDARD
TZOFFSETFROM:-0300
TZOFFSETTO:-0400
TZNAME:AST
DTSTART:20261101T050000
END:STANDARD
BEGIN:DAYLIGHT
TZOFFSETFROM:-0400
TZOFFSETTO:-0300
TZNAME:ADT
DTSTART:20270314T060000
END:DAYLIGHT
BEGIN:STANDARD
TZOFFSETFROM:-0300
TZOFFSETTO:-0400
TZNAME:AST
DTSTART:20271107T050000
END:STANDARD
END:VTIMEZONE
BEGIN:VEVENT
DTSTART;TZID=America/Halifax:20260521T200000
DTEND;TZID=America/Halifax:20260521T220000
DTSTAMP:20260424T191549
CREATED:20260423T181804Z
LAST-MODIFIED:20260423T181804Z
UID:15695-1779393600-1779400800@st-ann.org
SUMMARY:Dad’s Basketball Night Open Gym
DESCRIPTION:Dads\, it’s time to get out of the house and hit the court! Join us for an Open Gym Night at St. Ann’s\, no agenda\, no pressure… just a chance to play some ball\, get a workout in\, and hang out with other guys. Whether you’re looking to run full-court games\, shoot around\, or just catch up with the group\, this is a great way to connect and have some fun. No cost—just bring yourself\, a pair of sneakers\, and maybe some water. Feel free to invite another dad who might be interested! See you on the court.
URL:https://st-ann.org/event/dads-basketball-night-open-gym/
CATEGORIES:Dads Group,Encounter Events
ATTACH;FMTTYPE=image/png:https://st-ann.org/wp-content/uploads/2026/04/Dads-group-social-MAY-21.png
END:VEVENT
END:VCALENDAR