BEGIN:VCALENDAR
VERSION:2.0
PRODID:-//St. Ann - ECPv6.15.20//NONSGML v1.0//EN
CALSCALE:GREGORIAN
METHOD:PUBLISH
X-ORIGINAL-URL:https://st-ann.org
X-WR-CALDESC:Events for St. Ann
REFRESH-INTERVAL;VALUE=DURATION:PT1H
X-Robots-Tag:noindex
X-PUBLISHED-TTL:PT1H
BEGIN:VTIMEZONE
TZID:America/Halifax
BEGIN:DAYLIGHT
TZOFFSETFROM:-0400
TZOFFSETTO:-0300
TZNAME:ADT
DTSTART:20240310T060000
END:DAYLIGHT
BEGIN:STANDARD
TZOFFSETFROM:-0300
TZOFFSETTO:-0400
TZNAME:AST
DTSTART:20241103T050000
END:STANDARD
BEGIN:DAYLIGHT
TZOFFSETFROM:-0400
TZOFFSETTO:-0300
TZNAME:ADT
DTSTART:20250309T060000
END:DAYLIGHT
BEGIN:STANDARD
TZOFFSETFROM:-0300
TZOFFSETTO:-0400
TZNAME:AST
DTSTART:20251102T050000
END:STANDARD
BEGIN:DAYLIGHT
TZOFFSETFROM:-0400
TZOFFSETTO:-0300
TZNAME:ADT
DTSTART:20260308T060000
END:DAYLIGHT
BEGIN:STANDARD
TZOFFSETFROM:-0300
TZOFFSETTO:-0400
TZNAME:AST
DTSTART:20261101T050000
END:STANDARD
BEGIN:DAYLIGHT
TZOFFSETFROM:-0400
TZOFFSETTO:-0300
TZNAME:ADT
DTSTART:20270314T060000
END:DAYLIGHT
BEGIN:STANDARD
TZOFFSETFROM:-0300
TZOFFSETTO:-0400
TZNAME:AST
DTSTART:20271107T050000
END:STANDARD
END:VTIMEZONE
BEGIN:VEVENT
DTSTART;TZID=America/Halifax:20260419T080000
DTEND;TZID=America/Halifax:20260419T140000
DTSTAMP:20260424T204052
CREATED:20260409T135550Z
LAST-MODIFIED:20260409T140204Z
UID:15550-1776585600-1776607200@st-ann.org
SUMMARY:Knights of Columbus Blood Drive
DESCRIPTION:Knights of Columbus is hosting a blood drive on Sunday\, April 19th from 8am-2pm in La Salette Hall. All donors will get receive a Life South Umbrella. Sign up here to save lives by donating blood!  https://donors.lifesouth.org/donor/schedules/drive_schedule/869786 
URL:https://st-ann.org/event/knights-of-columbus-blood-drive-4/
CATEGORIES:Knight of Columbus,Knights Webpage events
ATTACH;FMTTYPE=image/jpeg:https://st-ann.org/wp-content/uploads/2026/04/2-3.jpg
END:VEVENT
BEGIN:VEVENT
DTSTART;VALUE=DATE:20260413
DTEND;VALUE=DATE:20260414
DTSTAMP:20260424T204052
CREATED:20260106T194724Z
LAST-MODIFIED:20260106T195230Z
UID:14645-1776038400-1776124799@st-ann.org
SUMMARY:Knights of Columbus Charity Golf Classic
DESCRIPTION:Join the knights of Columbus for the 11th annual Charity Golf Classic. Mark your calendar for April. 13th 2026 at the Indian Hills Country Club to tee it up for charity. Use this link to play\, sponsor\, or donate! https://birdease.com/33837
URL:https://st-ann.org/event/knights-of-columbus-charity-golf-classic/
CATEGORIES:Knight of Columbus,Knights Webpage events
ATTACH;FMTTYPE=image/jpeg:https://st-ann.org/wp-content/uploads/2026/01/KofC-Golf-Tournament-2.jpg
END:VEVENT
BEGIN:VEVENT
DTSTART;TZID=America/Halifax:20260327T170000
DTEND;TZID=America/Halifax:20260327T190000
DTSTAMP:20260424T204052
CREATED:20260130T184212Z
LAST-MODIFIED:20260209T192357Z
UID:15030-1774630800-1774638000@st-ann.org
SUMMARY:Fish Dinners
DESCRIPTION:Our Lady of La Salette Knights of Columbus Council #8376 welcomes the Parish to enjoy Friday Lenten Fish Dinners with us. They all be held every Friday during Lent from 5-7pm except April 3rd which is Good Friday. The cost is $15.00 per Adult\, $7.00 per Child\, or $37.00 – per Family. Children aged 0-3 eat free. The menu will include Fish Dinner favorites like Fried Cod\, Baked Tilapia\, Hush Puppies\, and more!
URL:https://st-ann.org/event/fish-dinner/2026-03-27/
CATEGORIES:Knight of Columbus,Lent,Parish Wide
ATTACH;FMTTYPE=image/png:https://st-ann.org/wp-content/uploads/2026/01/Lenten-Fish-Dinners-2026.png
END:VEVENT
BEGIN:VEVENT
DTSTART;VALUE=DATE:20260321
DTEND;VALUE=DATE:20260323
DTSTAMP:20260424T204052
CREATED:20260317T154946Z
LAST-MODIFIED:20260317T154946Z
UID:15324-1774051200-1774223999@st-ann.org
SUMMARY:Knights of Columbus Tootsie Rool Drive
DESCRIPTION:You’re Invited! Join the Knights of Columbus – Our Lady of La Salette Council #8376 for our annual Tootsie Roll Drive on March 21 & 22! Your support helps make a difference in the lives of people with disabilities in our community. Stop by\, grab a Tootsie Roll\, and share a little sweetness for a great cause!\nCome meet us in the Narthex after Mass! Thank you for your generosity and heart!
URL:https://st-ann.org/event/knights-of-columbus-tootsie-rool-drive/
CATEGORIES:Knight of Columbus
ATTACH;FMTTYPE=image/jpeg:https://st-ann.org/wp-content/uploads/2026/03/KofC-TootsieRoll-Screen-2026.jpg
END:VEVENT
BEGIN:VEVENT
DTSTART;TZID=America/Halifax:20260320T170000
DTEND;TZID=America/Halifax:20260320T190000
DTSTAMP:20260424T204052
CREATED:20260130T184212Z
LAST-MODIFIED:20260209T192356Z
UID:15029-1774026000-1774033200@st-ann.org
SUMMARY:Fish Dinners
DESCRIPTION:Our Lady of La Salette Knights of Columbus Council #8376 welcomes the Parish to enjoy Friday Lenten Fish Dinners with us. They all be held every Friday during Lent from 5-7pm except April 3rd which is Good Friday. The cost is $15.00 per Adult\, $7.00 per Child\, or $37.00 – per Family. Children aged 0-3 eat free. The menu will include Fish Dinner favorites like Fried Cod\, Baked Tilapia\, Hush Puppies\, and more!
URL:https://st-ann.org/event/fish-dinner/2026-03-20/
CATEGORIES:Knight of Columbus,Lent,Parish Wide
ATTACH;FMTTYPE=image/png:https://st-ann.org/wp-content/uploads/2026/01/Lenten-Fish-Dinners-2026.png
END:VEVENT
BEGIN:VEVENT
DTSTART;TZID=America/Halifax:20260313T170000
DTEND;TZID=America/Halifax:20260313T190000
DTSTAMP:20260424T204052
CREATED:20260130T184212Z
LAST-MODIFIED:20260209T192355Z
UID:15028-1773421200-1773428400@st-ann.org
SUMMARY:Fish Dinners
DESCRIPTION:Our Lady of La Salette Knights of Columbus Council #8376 welcomes the Parish to enjoy Friday Lenten Fish Dinners with us. They all be held every Friday during Lent from 5-7pm except April 3rd which is Good Friday. The cost is $15.00 per Adult\, $7.00 per Child\, or $37.00 – per Family. Children aged 0-3 eat free. The menu will include Fish Dinner favorites like Fried Cod\, Baked Tilapia\, Hush Puppies\, and more!
URL:https://st-ann.org/event/fish-dinner/2026-03-13/
CATEGORIES:Knight of Columbus,Lent,Parish Wide
ATTACH;FMTTYPE=image/png:https://st-ann.org/wp-content/uploads/2026/01/Lenten-Fish-Dinners-2026.png
END:VEVENT
BEGIN:VEVENT
DTSTART;TZID=America/Halifax:20260306T170000
DTEND;TZID=America/Halifax:20260306T190000
DTSTAMP:20260424T204052
CREATED:20260130T184212Z
LAST-MODIFIED:20260209T192354Z
UID:15027-1772816400-1772823600@st-ann.org
SUMMARY:Fish Dinners
DESCRIPTION:Our Lady of La Salette Knights of Columbus Council #8376 welcomes the Parish to enjoy Friday Lenten Fish Dinners with us. They all be held every Friday during Lent from 5-7pm except April 3rd which is Good Friday. The cost is $15.00 per Adult\, $7.00 per Child\, or $37.00 – per Family. Children aged 0-3 eat free. The menu will include Fish Dinner favorites like Fried Cod\, Baked Tilapia\, Hush Puppies\, and more!
URL:https://st-ann.org/event/fish-dinner/2026-03-06/
CATEGORIES:Knight of Columbus,Lent,Parish Wide
ATTACH;FMTTYPE=image/png:https://st-ann.org/wp-content/uploads/2026/01/Lenten-Fish-Dinners-2026.png
END:VEVENT
BEGIN:VEVENT
DTSTART;TZID=America/Halifax:20260227T170000
DTEND;TZID=America/Halifax:20260227T190000
DTSTAMP:20260424T204052
CREATED:20260130T184212Z
LAST-MODIFIED:20260209T192353Z
UID:15026-1772211600-1772218800@st-ann.org
SUMMARY:Fish Dinners
DESCRIPTION:Our Lady of La Salette Knights of Columbus Council #8376 welcomes the Parish to enjoy Friday Lenten Fish Dinners with us. They all be held every Friday during Lent from 5-7pm except April 3rd which is Good Friday. The cost is $15.00 per Adult\, $7.00 per Child\, or $37.00 – per Family. Children aged 0-3 eat free. The menu will include Fish Dinner favorites like Fried Cod\, Baked Tilapia\, Hush Puppies\, and more!
URL:https://st-ann.org/event/fish-dinner/2026-02-27/
CATEGORIES:Knight of Columbus,Lent,Parish Wide
ATTACH;FMTTYPE=image/png:https://st-ann.org/wp-content/uploads/2026/01/Lenten-Fish-Dinners-2026.png
END:VEVENT
BEGIN:VEVENT
DTSTART;TZID=America/Halifax:20260222T080000
DTEND;TZID=America/Halifax:20260222T140000
DTSTAMP:20260424T204052
CREATED:20260127T190827Z
LAST-MODIFIED:20260127T190953Z
UID:14916-1771747200-1771768800@st-ann.org
SUMMARY:Knights of Columbus Blood Drive
DESCRIPTION:Knights of Columbus is hosting a blood drive on Sunday\, February 22th from 8am-2pm in La Salette Hall. All donors will get receive a $25 egift card and a free tote bag while supplies last. Sign up here to save lives by donating blood! https://donors.lifesouth.org/donor/schedules/drive_schedule/883693 \n 
URL:https://st-ann.org/event/knights-of-columbus-blood-drive-3/
CATEGORIES:Knight of Columbus,Knights Webpage events
ATTACH;FMTTYPE=image/jpeg:https://st-ann.org/wp-content/uploads/2026/01/FEB-KofC-Blood-Drive-1.jpg
END:VEVENT
BEGIN:VEVENT
DTSTART;TZID=America/Halifax:20260220T170000
DTEND;TZID=America/Halifax:20260220T190000
DTSTAMP:20260424T204052
CREATED:20260130T184212Z
LAST-MODIFIED:20260209T192350Z
UID:15024-1771606800-1771614000@st-ann.org
SUMMARY:Fish Dinners
DESCRIPTION:Our Lady of La Salette Knights of Columbus Council #8376 welcomes the Parish to enjoy Friday Lenten Fish Dinners with us. They all be held every Friday during Lent from 5-7pm except April 3rd which is Good Friday. The cost is $15.00 per Adult\, $7.00 per Child\, or $37.00 – per Family. Children aged 0-3 eat free. The menu will include Fish Dinner favorites like Fried Cod\, Baked Tilapia\, Hush Puppies\, and more!
URL:https://st-ann.org/event/fish-dinner/2026-02-20/
CATEGORIES:Knight of Columbus,Lent,Parish Wide
ATTACH;FMTTYPE=image/png:https://st-ann.org/wp-content/uploads/2026/01/Lenten-Fish-Dinners-2026.png
END:VEVENT
BEGIN:VEVENT
DTSTART;TZID=America/Halifax:20260131T173000
DTEND;TZID=America/Halifax:20260131T203000
DTSTAMP:20260424T204052
CREATED:20260106T194454Z
LAST-MODIFIED:20260106T194517Z
UID:14642-1769880600-1769891400@st-ann.org
SUMMARY:Knights of Columbus Father Daughter Dance
DESCRIPTION:Calling Fathers and Daughter to the Knights of Columbus Father Daughter Dance! If you are Preschool-12TH Grade Girls\, Bring your dad (grandfather\, brother\, uncle\, etc.). Ladies wear your best party dress and Gents wear a suit and tie. The dance will be on January 31st from 5:30 to 8:30 in La Salette Hall. \nhttps://www.paypal.com/donate/?hosted_button_id=QHDUUCNVCKKEN \n$30 per adult \nContact Andrew Snyder\, Chairman with questions atsnyder@yahoo.com
URL:https://st-ann.org/event/knights-of-columbus-father-daughter-dance/
CATEGORIES:Knight of Columbus,Knights Webpage events
ATTACH;FMTTYPE=image/jpeg:https://st-ann.org/wp-content/uploads/2026/01/2.jpg
END:VEVENT
BEGIN:VEVENT
DTSTART;TZID=America/Halifax:20260125T080000
DTEND;TZID=America/Halifax:20260125T140000
DTSTAMP:20260424T204052
CREATED:20251223T165011Z
LAST-MODIFIED:20251229T174016Z
UID:14519-1769328000-1769349600@st-ann.org
SUMMARY:Knights of Columbus Blood Drive
DESCRIPTION:Knights of Columbus is hosting a blood drive on Sunday\, January 25th from 8am-2pm in La Salette Hall. All donors will get receive a $40 egift card and a free sweatshirt while supplies last. Sign up here to save lives by donating blood!
URL:https://st-ann.org/event/knights-of-columbus-blood-drive-2/
CATEGORIES:Knight of Columbus,Knights Webpage events
ATTACH;FMTTYPE=image/jpeg:https://st-ann.org/wp-content/uploads/2025/12/JAN-KofC-Blood-Drive.jpg
END:VEVENT
BEGIN:VEVENT
DTSTART;TZID=America/Halifax:20251130T080000
DTEND;TZID=America/Halifax:20251130T140000
DTSTAMP:20260424T204052
CREATED:20251028T170805Z
LAST-MODIFIED:20251029T203624Z
UID:13564-1764489600-1764511200@st-ann.org
SUMMARY:Knights of Columbus Blood Drive
DESCRIPTION:Knights of Columbus Blood Drive\nSunday\, November 30\n8:00am – 2:00pm \nLa Salette Hall \n\nKnights of Columbus are hosting a blood drive on Sunday\, November 30th from 8am-2pm in La Salette Hall. \nAll donors will get receive a $25 egift card and a free t-shirt while supplies last. \nSign up here to save lives by donating blood! https://donors.lifesouth.org/donor/schedules/drive_schedule/838970
URL:https://st-ann.org/event/knights-of-columbus-blood-drive/
CATEGORIES:Knight of Columbus
ATTACH;FMTTYPE=image/png:https://st-ann.org/wp-content/uploads/2025/10/Nov-KofC-Blood-Drive.png
END:VEVENT
BEGIN:VEVENT
DTSTART;VALUE=DATE:20251122
DTEND;VALUE=DATE:20251209
DTSTAMP:20260424T204052
CREATED:20251029T194554Z
LAST-MODIFIED:20251210T154829Z
UID:13629-1763769600-1765238399@st-ann.org
SUMMARY:Knights of Columbus Christmas Tree Sale
DESCRIPTION:Knights of Columbus Christmas Tree Sale\n\n\nGet your Christmas tree from the St. Ann’s Lot while supplies last!Trees arrive this Saturday\, November 22\, and sales begin at 12:00 PM. \nTree Prices: Based on heightPayment Accepted: Cash\, Check\, or Credit Card \nSales Hours: \n   *Sat 11/22: 12:00 PM – 8:00 PM \n   *Sun 11/23 – Wed 11/26: 12:00 PM – 8:00 PM \n   *Thanksgiving Day: Closed \n   *Fri 11/28: 9:00 AM – 8:00 PM \nOngoing Sale Hours until all trees are sold: \n   *Mon–Fri: 5:30 PM – 8:00 PM \n   *Sat: 9:00 AM – 8:00 PM \n   *Sun: 12:00 PM – 8:00 PM \nCome early for the best selection and support your St.Ann’s Knights of Columbus!
URL:https://st-ann.org/event/knights-of-columbus-christmas-tree-sale/
CATEGORIES:Advent,Knight of Columbus
ATTACH;FMTTYPE=image/png:https://st-ann.org/wp-content/uploads/2025/10/For-the-website-.png
END:VEVENT
BEGIN:VEVENT
DTSTART;TZID=America/Halifax:20251108T180000
DTEND;TZID=America/Halifax:20251108T210000
DTSTAMP:20260424T204052
CREATED:20251014T140637Z
LAST-MODIFIED:20251106T175348Z
UID:13099-1762624800-1762635600@st-ann.org
SUMMARY:Family Movie Night
DESCRIPTION:Family Movie Night\nSponsored by The Knights of Columbus \n  \nSaturday\, November 8th \nLaSalette Hall \n6PM – Movie will begin at 6:30 \n  \nPopcorn and Snack provided \nPizza available for purchase \nBeverages available with Donation \nRSVP for Movie Night
URL:https://st-ann.org/event/family-movie-night/
CATEGORIES:Knight of Columbus
ATTACH;FMTTYPE=image/png:https://st-ann.org/wp-content/uploads/2025/10/familymovie.png
END:VEVENT
END:VCALENDAR