BEGIN:VCALENDAR
VERSION:2.0
PRODID:-//St. Ann - ECPv6.15.20//NONSGML v1.0//EN
CALSCALE:GREGORIAN
METHOD:PUBLISH
X-WR-CALNAME:St. Ann
X-ORIGINAL-URL:https://st-ann.org
X-WR-CALDESC:Events for St. Ann
REFRESH-INTERVAL;VALUE=DURATION:PT1H
X-Robots-Tag:noindex
X-PUBLISHED-TTL:PT1H
BEGIN:VTIMEZONE
TZID:America/Halifax
BEGIN:DAYLIGHT
TZOFFSETFROM:-0400
TZOFFSETTO:-0300
TZNAME:ADT
DTSTART:20240310T060000
END:DAYLIGHT
BEGIN:STANDARD
TZOFFSETFROM:-0300
TZOFFSETTO:-0400
TZNAME:AST
DTSTART:20241103T050000
END:STANDARD
BEGIN:DAYLIGHT
TZOFFSETFROM:-0400
TZOFFSETTO:-0300
TZNAME:ADT
DTSTART:20250309T060000
END:DAYLIGHT
BEGIN:STANDARD
TZOFFSETFROM:-0300
TZOFFSETTO:-0400
TZNAME:AST
DTSTART:20251102T050000
END:STANDARD
BEGIN:DAYLIGHT
TZOFFSETFROM:-0400
TZOFFSETTO:-0300
TZNAME:ADT
DTSTART:20260308T060000
END:DAYLIGHT
BEGIN:STANDARD
TZOFFSETFROM:-0300
TZOFFSETTO:-0400
TZNAME:AST
DTSTART:20261101T050000
END:STANDARD
BEGIN:DAYLIGHT
TZOFFSETFROM:-0400
TZOFFSETTO:-0300
TZNAME:ADT
DTSTART:20270314T060000
END:DAYLIGHT
BEGIN:STANDARD
TZOFFSETFROM:-0300
TZOFFSETTO:-0400
TZNAME:AST
DTSTART:20271107T050000
END:STANDARD
END:VTIMEZONE
BEGIN:VEVENT
DTSTART;VALUE=DATE:20260313
DTEND;VALUE=DATE:20260316
DTSTAMP:20260425T095755
CREATED:20251229T213828Z
LAST-MODIFIED:20260318T133810Z
UID:14541-1773360000-1773619199@st-ann.org
SUMMARY:Rescued - Faith Sharers Lenten Retreat - Sign Up Now
DESCRIPTION:Join us for a Lenten Retreat Weekend focused on spiritual renewal and preparation for Easter\, centered on the theme of being rescued by Jesus Christ through His Passion\, Death\, and Resurrection. \nRetreat Details \n\nDate & Time: March 13\, 2026\, beginning at 4:30 PM (weekend retreat) to March 15\, 2026\nLocation: Carmel Retreat Center\, Hoschton\, GA\nCost:\n\n$225 per person (double occupancy)\n$350 per person (single occupancy)\n\n\n\nDownload PDF for full information and retreat details \n  \nRegister Here to Reserve your spot \n  \nWhat’s Included \n\nLodging for the weekend\nAll meals and refreshments\nRetreat materials\n\nRetreat Experience \n\nFaith talks with small group discussions\nIndividual reflection time\nMass\nSacrament of Reconciliation\nEucharistic Adoration and other prayer opportunities\n\nThis retreat offers a meaningful opportunity to step away from daily life\, deepen your faith\, and prepare your heart for the celebration of Easter.
URL:https://st-ann.org/event/rescued-faith-sharers-lenten-retreat/
CATEGORIES:Faith Sharers,Lent,Parish Wide
ATTACH;FMTTYPE=image/png:https://st-ann.org/wp-content/uploads/2025/12/Matcha-1.png
END:VEVENT
BEGIN:VEVENT
DTSTART;TZID=America/Halifax:20251114T190000
DTEND;TZID=America/Halifax:20251114T213000
DTSTAMP:20260425T095755
CREATED:20251013T200629Z
LAST-MODIFIED:20251107T220610Z
UID:13087-1763146800-1763155800@st-ann.org
SUMMARY:Faith Sharers Paint and Sip -Sold Out
DESCRIPTION:Paint and Sip is sold out\nFriday\, November 14 \n7:00 pm \nScout Lodge \nJoin us for the Faith Sharers Sip and Paint\, a fundraiser supporting the faith Sharer Retreat scholarship program. Enjoy a fun evening of creativity as artist Greg Whiting guide you step by step in painting a festive Christmas painting to keep and share. Your $40 registration includes\, food\, drinks (with wine)\, fellowship and the joy of taking home your own holiday artwork. \n 
URL:https://st-ann.org/event/faith-sharers-sip-and-paint/
CATEGORIES:Faith Sharers
ATTACH;FMTTYPE=image/png:https://st-ann.org/wp-content/uploads/2025/10/Copy-of-Sip-and-Paint-Nov-15.25-1.png
END:VEVENT
END:VCALENDAR