BEGIN:VCALENDAR
VERSION:2.0
PRODID:-//St. Ann - ECPv6.15.20//NONSGML v1.0//EN
CALSCALE:GREGORIAN
METHOD:PUBLISH
X-WR-CALNAME:St. Ann
X-ORIGINAL-URL:https://st-ann.org
X-WR-CALDESC:Events for St. Ann
REFRESH-INTERVAL;VALUE=DURATION:PT1H
X-Robots-Tag:noindex
X-PUBLISHED-TTL:PT1H
BEGIN:VTIMEZONE
TZID:America/Halifax
BEGIN:DAYLIGHT
TZOFFSETFROM:-0400
TZOFFSETTO:-0300
TZNAME:ADT
DTSTART:20240310T060000
END:DAYLIGHT
BEGIN:STANDARD
TZOFFSETFROM:-0300
TZOFFSETTO:-0400
TZNAME:AST
DTSTART:20241103T050000
END:STANDARD
BEGIN:DAYLIGHT
TZOFFSETFROM:-0400
TZOFFSETTO:-0300
TZNAME:ADT
DTSTART:20250309T060000
END:DAYLIGHT
BEGIN:STANDARD
TZOFFSETFROM:-0300
TZOFFSETTO:-0400
TZNAME:AST
DTSTART:20251102T050000
END:STANDARD
BEGIN:DAYLIGHT
TZOFFSETFROM:-0400
TZOFFSETTO:-0300
TZNAME:ADT
DTSTART:20260308T060000
END:DAYLIGHT
BEGIN:STANDARD
TZOFFSETFROM:-0300
TZOFFSETTO:-0400
TZNAME:AST
DTSTART:20261101T050000
END:STANDARD
END:VTIMEZONE
BEGIN:VEVENT
DTSTART;TZID=America/Halifax:20251113T190000
DTEND;TZID=America/Halifax:20251113T210000
DTSTAMP:20260425T081440
CREATED:20251022T190854Z
LAST-MODIFIED:20251022T190854Z
UID:13454-1763060400-1763067600@st-ann.org
SUMMARY:St. Ann FACTS Ministry Info Meeting
DESCRIPTION:St. Ann FACTS Ministry Info Meeting\nThursday November 13th \n7:00 pm\nRoom 301\n\nFor 9 years\, FACTS (Fighting to Abolish Child Trafficking for Sex)\, a St. Ann ministry\, has worked with local organizations to advocate for the end of child sex trafficking and provide support to families and girls victimized by the sex trafficking trade.\n\nWe are in desperate need of volunteers to keep up the fight!\n\nIf you are called to help\, please come learn about the girls that are targeted and trapped in this horrific\, ever-growing industry\, how trafficking negatively affects our community and ways you can volunteer to help stop it.\n 
URL:https://st-ann.org/event/st-ann-facts-ministry-info-meeting/
CATEGORIES:Facts
ATTACH;FMTTYPE=image/png:https://st-ann.org/wp-content/uploads/2025/10/FACTS-Info-Meeting-.png
END:VEVENT
END:VCALENDAR