BEGIN:VCALENDAR
VERSION:2.0
PRODID:-//St. Ann - ECPv6.15.20//NONSGML v1.0//EN
CALSCALE:GREGORIAN
METHOD:PUBLISH
X-WR-CALNAME:St. Ann
X-ORIGINAL-URL:https://st-ann.org
X-WR-CALDESC:Events for St. Ann
REFRESH-INTERVAL;VALUE=DURATION:PT1H
X-Robots-Tag:noindex
X-PUBLISHED-TTL:PT1H
BEGIN:VTIMEZONE
TZID:America/Halifax
BEGIN:DAYLIGHT
TZOFFSETFROM:-0400
TZOFFSETTO:-0300
TZNAME:ADT
DTSTART:20250309T060000
END:DAYLIGHT
BEGIN:STANDARD
TZOFFSETFROM:-0300
TZOFFSETTO:-0400
TZNAME:AST
DTSTART:20251102T050000
END:STANDARD
BEGIN:DAYLIGHT
TZOFFSETFROM:-0400
TZOFFSETTO:-0300
TZNAME:ADT
DTSTART:20260308T060000
END:DAYLIGHT
BEGIN:STANDARD
TZOFFSETFROM:-0300
TZOFFSETTO:-0400
TZNAME:AST
DTSTART:20261101T050000
END:STANDARD
BEGIN:DAYLIGHT
TZOFFSETFROM:-0400
TZOFFSETTO:-0300
TZNAME:ADT
DTSTART:20270314T060000
END:DAYLIGHT
BEGIN:STANDARD
TZOFFSETFROM:-0300
TZOFFSETTO:-0400
TZNAME:AST
DTSTART:20271107T050000
END:STANDARD
END:VTIMEZONE
BEGIN:VEVENT
DTSTART;VALUE=DATE:20260301
DTEND;VALUE=DATE:20260517
DTSTAMP:20260420T105014
CREATED:20251230T201728Z
LAST-MODIFIED:20260216T220700Z
UID:14552-1772323200-1778975999@st-ann.org
SUMMARY:SACCW Teen Recognition Award - Applications Being Accepted
DESCRIPTION:The St. Ann Council of Catholic Women (SACCW) is looking for applicants for its annual teen recognition award. Applicants must be graduating high school in May and a registered St. Ann parishioner. This is a faith and service-based award. Winners are chosen based on their essays and references. Participation in Life Teen is not required.\nApply online here: https://form.jotform.com/92883225503155  beginning January 5th. The application deadline is March 22. For more information\, contact Carol Langteau\, saccwteenaward2024@gmail.com
URL:https://st-ann.org/event/saccw-teen-recognition-award/
CATEGORIES:Women's Guild
ATTACH;FMTTYPE=image/png:https://st-ann.org/wp-content/uploads/2025/12/Copy-of-SACCW-Day-Guild-Meeting-DEC.png
END:VEVENT
BEGIN:VEVENT
DTSTART;TZID=America/Halifax:20260421T183000
DTEND;TZID=America/Halifax:20260421T200000
DTSTAMP:20260420T105014
CREATED:20260407T171531Z
LAST-MODIFIED:20260409T144518Z
UID:15512-1776796200-1776801600@st-ann.org
SUMMARY:SisterTalk Evening - Catch the Spirit
DESCRIPTION:All women of the parish are invited to join us for a picnic supper and conversation. Share the joy of the spirit. Bring your favorite summertime childhood memories and traditions.\n\nPlease RSVP https://tinyurl.com/sistertalk421\n\nBabysitting is available by requesting babysitting@st-ann.org
URL:https://st-ann.org/event/sistertalk-evening-catch-the-spirit/
CATEGORIES:Encounter Events
ATTACH;FMTTYPE=image/jpeg:https://st-ann.org/wp-content/uploads/2026/04/2.jpg
END:VEVENT
BEGIN:VEVENT
DTSTART;TZID=America/Halifax:20260422T183000
DTEND;TZID=America/Halifax:20260422T200000
DTSTAMP:20260420T105014
CREATED:20260305T163850Z
LAST-MODIFIED:20260406T190207Z
UID:15409-1776882600-1776888000@st-ann.org
SUMMARY:Where There’s a Will\, There’s a Way: Navigating Wills & Trusts with Estate Planning 
DESCRIPTION:Join us for a Faith & Finance Where There’s a Will\, There’s a Way session. Learn about Navigating Wills & Trusts with Estate Planning. We will meet on April 22nd at 6:30pm in room 301. RSVP here: https://form.jotform.com/260265800037046
URL:https://st-ann.org/event/where-theres-a-will-theres-a-way-navigating-wills-trusts-with-estate-planning/2026-04-22/
CATEGORIES:Faith & Finance
ATTACH;FMTTYPE=image/jpeg:https://st-ann.org/wp-content/uploads/2026/03/Faith-and-Finance-wills-1.jpg
END:VEVENT
BEGIN:VEVENT
DTSTART;TZID=America/Halifax:20260423T190000
DTEND;TZID=America/Halifax:20260423T200000
DTSTAMP:20260420T105014
CREATED:20260407T134956Z
LAST-MODIFIED:20260407T135428Z
UID:15504-1776970800-1776974400@st-ann.org
SUMMARY:AMM Pray With Us
DESCRIPTION:AMM will be in the North Georgia\, Rabun county area ministering to folks who desperately need improvements to their residences. But do not have the means to afford them. These improvements most often are tied to mobility issues..ie stair repairs\, addition of ramps for wheelchair access\, floor replacement in old trailers.\, etc. we also spend time with those that we serve providing a listening ear\, showing compassion for their situation \, praying together and respecting their dignity as a person. \nPlease pray for us while we are serving them April 22 – 26\, and pray with us in the St. Ann Adoration chapel Friday evening as we pray in Adoration in North Georgia.
URL:https://st-ann.org/event/amm-pray-with-us/
ATTACH;FMTTYPE=image/jpeg:https://st-ann.org/wp-content/uploads/2026/04/AMM-Spring-2026-Adult-Missions-Ministry-New.jpg
END:VEVENT
BEGIN:VEVENT
DTSTART;TZID=America/Halifax:20260423T190000
DTEND;TZID=America/Halifax:20260423T210000
DTSTAMP:20260420T105014
CREATED:20260319T221126Z
LAST-MODIFIED:20260319T221126Z
UID:15367-1776970800-1776978000@st-ann.org
SUMMARY:Be Inspired to Live the Gospel in Action
DESCRIPTION:Join us for two engaging sessions exploring how the Church calls us to see\, understand\, and respond to the needs of others. These sessions will introduce the foundations of Catholic Social Teaching and how its message continues to shape the Church today.\nLearn about:\n• The foundations of Catholic Social Teaching\n• Rerum Novarum and the teaching of Pope Leo XIII\n• How Dilexi Te by Pope Leo XIV continues this mission today\n• Real-life examples and how we are called to respond \nCullen Larson serves on the Catholic Mobilizing Network National Grassroots Advisory Committee\, and the Glenmary Home Missioners’ Justice\, Peace\, & Care for Creation Commission. During 11 years with Catholic Relief Services (CRS) he was Regional Director for the 9-state Southeast Region-US\, and Acting Country Representative for CRS in Iraq and in Tanzania\, and Regional Representative for CRS Europe/Middle East Region\, including CRS in Jerusalem/West Bank/Gaza. His education includes theology/philosophy (Loyola Univ\, New Orleans)\, public administration (Univ of Georgia)\, law (Emory Univ)\, and pastoral studies (Spring Hill College\, Mobile). Larson’s professional career includes law\, local government\, and community and economic development.  \nRSVP at the link https://forms.gle/U5UP2UQGGY87eGqu9
URL:https://st-ann.org/event/be-inspired-to-live-the-gospel-in-action/2026-04-23/
ATTACH;FMTTYPE=image/jpeg:https://st-ann.org/wp-content/uploads/2026/03/Be-inspired-to-live-the-Gospel-in-action.jpg
END:VEVENT
BEGIN:VEVENT
DTSTART;VALUE=DATE:20260424
DTEND;VALUE=DATE:20260427
DTSTAMP:20260420T105014
CREATED:20260311T212517Z
LAST-MODIFIED:20260311T212517Z
UID:15300-1776988800-1777247999@st-ann.org
SUMMARY:Retrouvaille Marriage Retreat Screen
DESCRIPTION:In marriage\, communication is more than just talking.  At some point\, did you stop sharing about the things that were important to you?  Did your spouse?  \nImproving a marriage takes time and a conscious effort to learn about your spouse.  Growing closer in a marriage does not happen automatically. Retrouvaille is a marriage program dedicated to helping couples grow closer and develop a stronger bond.  You give your heart and soul to everything you do\, between your work and your family.  Are you giving your heart and soul to your marriage?  Sometimes the distance between a husband and a wife can seem so wide that it cannot be repaired. Retrouvaille is a marriage program designed to bring couples closer together. \nIf you want more information about our upcoming Retrouvaille Weekend program\, April 24-26\, 2026 contact: 404.644.3253 or visit our website: HelpOurMarriage.org
URL:https://st-ann.org/event/retrouvaille-marriage-retreat-screen/
ATTACH;FMTTYPE=image/jpeg:https://st-ann.org/wp-content/uploads/2026/03/Retrouvaille-Marriage-Retreat-Screen.jpg
END:VEVENT
BEGIN:VEVENT
DTSTART;TZID=America/Halifax:20260430T190000
DTEND;TZID=America/Halifax:20260430T210000
DTSTAMP:20260420T105014
CREATED:20260319T221126Z
LAST-MODIFIED:20260319T221126Z
UID:15369-1777575600-1777582800@st-ann.org
SUMMARY:Be Inspired to Live the Gospel in Action
DESCRIPTION:Join us for two engaging sessions exploring how the Church calls us to see\, understand\, and respond to the needs of others. These sessions will introduce the foundations of Catholic Social Teaching and how its message continues to shape the Church today.\nLearn about:\n• The foundations of Catholic Social Teaching\n• Rerum Novarum and the teaching of Pope Leo XIII\n• How Dilexi Te by Pope Leo XIV continues this mission today\n• Real-life examples and how we are called to respond \nCullen Larson serves on the Catholic Mobilizing Network National Grassroots Advisory Committee\, and the Glenmary Home Missioners’ Justice\, Peace\, & Care for Creation Commission. During 11 years with Catholic Relief Services (CRS) he was Regional Director for the 9-state Southeast Region-US\, and Acting Country Representative for CRS in Iraq and in Tanzania\, and Regional Representative for CRS Europe/Middle East Region\, including CRS in Jerusalem/West Bank/Gaza. His education includes theology/philosophy (Loyola Univ\, New Orleans)\, public administration (Univ of Georgia)\, law (Emory Univ)\, and pastoral studies (Spring Hill College\, Mobile). Larson’s professional career includes law\, local government\, and community and economic development.  \nRSVP at the link https://forms.gle/U5UP2UQGGY87eGqu9
URL:https://st-ann.org/event/be-inspired-to-live-the-gospel-in-action/2026-04-30/
ATTACH;FMTTYPE=image/jpeg:https://st-ann.org/wp-content/uploads/2026/03/Be-inspired-to-live-the-Gospel-in-action.jpg
END:VEVENT
BEGIN:VEVENT
DTSTART;TZID=America/Halifax:20260502T110000
DTEND;TZID=America/Halifax:20260502T123000
DTSTAMP:20260420T105014
CREATED:20260312T144440Z
LAST-MODIFIED:20260327T191822Z
UID:15304-1777719600-1777725000@st-ann.org
SUMMARY:Fairy Tale Tea
DESCRIPTION:Upon arrival to the beautifully decorated La Salette Hall\, guests will deliver their toy donation at the giving tree as they are are greeted by princesses. After finding a seat at our high tea\, there will be Hors d’oeuvres\, desserts and beverages. Crafts\, face painting\, story time with princesses\, and a Whimsical Photo backdrop will be available for all to enjoy. Candid pictures will be taken at the event and available to download.  All ticket sale proceeds and toys will be donated to CHOA. \nTickets are available April 1\, 10 a.m.\, limited spots are available. Tickets are $10 per adult and one toy per child. Seating is limited. Each person\, including children\, must reserve a seat to attend the tea (Children under 2 do not need a seat). This event continues to be a huge success and a great way to raise money and toys for Children’s Healthcare of Atlanta. We kindly ask that every child bring a new toy to donate to children in long-term care at Children’s Healthcare of Atlanta Hospital. Please remember CHOA does not accept stuffed animals. \nRegister Here: https://www.wesharegiving.org/App/Form/421bfd9c-74d8-4135-bf7b-1e2bd8ed4184 \nFor more information\, contact the Fairy-tale Tea committee at stannfairytaletea@gmail.com. \nLooking for ways to help with this event? Adult volunteers are needed for event set up\, crafts\, kitchen help and more. Middle school and high school students can also earn service hours. Donations are also needed. https://signup.com/go/FsvgHvD
URL:https://st-ann.org/event/fairy-tale-tea/
ATTACH;FMTTYPE=image/png:https://st-ann.org/wp-content/uploads/2026/03/2-1.png
END:VEVENT
BEGIN:VEVENT
DTSTART;TZID=America/Halifax:20260504T120000
DTEND;TZID=America/Halifax:20260504T140000
DTSTAMP:20260420T105014
CREATED:20260415T162947Z
LAST-MODIFIED:20260415T162947Z
UID:15646-1777896000-1777903200@st-ann.org
SUMMARY:Exploring Catholic and Jewish faith: Ask a priest or Rabbi
DESCRIPTION:This is an opportunity to ask a question to a rabbi or priest about their respective faith practices. The goal of this event is to foster friendship between our communities\, promote mutual understanding\, and remind us that people of different faiths are often more alike than different in a respectful and nonjudgmental environment.\n\nLight lunch provided. Register here: https://forms.gle/Ps5s6XqfqQwerMbd6\n\nQuestions? Contact Stephanie at sholden@st-ann.org
URL:https://st-ann.org/event/exploring-catholic-and-jewish-faith-ask-a-priest-or-rabbi/
ATTACH;FMTTYPE=image/jpeg:https://st-ann.org/wp-content/uploads/2026/04/2-4.jpg
END:VEVENT
BEGIN:VEVENT
DTSTART;TZID=America/Halifax:20260505T093000
DTEND;TZID=America/Halifax:20260505T110000
DTSTAMP:20260420T105014
CREATED:20260408T145742Z
LAST-MODIFIED:20260408T145742Z
UID:15530-1777973400-1777978800@st-ann.org
SUMMARY:Day Guild Meeting
DESCRIPTION:All women of the parish are invited to the SACCW transition meeting on May 5th. Come and meet the members of next year’s board. Enjoy a line dancing session followed by our annual end of year luncheon. Don’t forget to bring your salad to share.
URL:https://st-ann.org/event/day-guild-meeting/
ATTACH;FMTTYPE=image/jpeg:https://st-ann.org/wp-content/uploads/2026/04/2-1.jpg
END:VEVENT
BEGIN:VEVENT
DTSTART;TZID=America/Halifax:20260513T190000
DTEND;TZID=America/Halifax:20260513T200000
DTSTAMP:20260420T105014
CREATED:20260415T210433Z
LAST-MODIFIED:20260415T210433Z
UID:15650-1778698800-1778702400@st-ann.org
SUMMARY:Family Life Town Hall Meeting
DESCRIPTION:Join us for an open and engaging Town Hall as we reflect on the past two years in the Family Life Ministry\, share our vision and plans for the year ahead\, and invite your voice into what comes next. \nWe’ll highlight what’s been working\, where we’ve seen growth\, and how our efforts are supporting the broader mission of the parish. We’ll also walk through upcoming events and new opportunities designed to better serve families. \nMost importantly\, this is a chance for you to share your ideas\, feedback\, and hopes for the future of the ministry. Your perspective matters\, and we want to hear it! \nAs our ministry continues to grow\, so does the need for leadership. We are actively looking for individuals willing to step forward\, bring ideas to life\, and help guide this ministry into its next chapter. Whether you can lead a team\, help plan an event\, or support behind the scenes\, your involvement is essential.
URL:https://st-ann.org/event/family-life-town-hall-meeting/
ATTACH;FMTTYPE=image/jpeg:https://st-ann.org/wp-content/uploads/2026/04/family-life-town-hall-meeting.jpg
END:VEVENT
BEGIN:VEVENT
DTSTART;TZID=America/Halifax:20260514T110000
DTEND;TZID=America/Halifax:20260514T140000
DTSTAMP:20260420T105014
CREATED:20260416T174628Z
LAST-MODIFIED:20260416T174859Z
UID:15657-1778756400-1778767200@st-ann.org
SUMMARY:The 50+ Rewards Ministry – Patriotic and Social Luncheon
DESCRIPTION:Come join 50+ Rewards Ministry for our Patriotic/Social Meeting and Luncheon and connect with friends. The reservation\ndeadline is Wednesday\, May 6\, 2026.  \nThe cost is $18/members and $20/non-members; make checks payable to: 50+ Rewards; with May Luncheon\non the memo line. Drop your check or cash by the parish office in an\nenvelope marked 50+ Rewards\, Attn: Jim Mahon\, or pay online at https://st-ann.org/50-rewards/. \nFor details\, contact Jim at jlmahon@aol.com or call 770-335-0806. Learn more by visiting the Church website and selecting Menu\, Ministries\, Community\, and then 50+ Rewards.
URL:https://st-ann.org/event/the-50-rewards-ministry-patriotic-and-social-luncheon/
CATEGORIES:50plus
ATTACH;FMTTYPE=image/jpeg:https://st-ann.org/wp-content/uploads/2026/04/2-5.jpg
END:VEVENT
BEGIN:VEVENT
DTSTART;VALUE=DATE:20260621
DTEND;VALUE=DATE:20261124
DTSTAMP:20260420T105014
CREATED:20260205T154053Z
LAST-MODIFIED:20260216T221226Z
UID:15109-1782000000-1795478399@st-ann.org
SUMMARY:Steubenville Youth Conference Registration (July 10-12)
DESCRIPTION:This weekend changes everything!!\n\n\n\n\n\n\n\n\n\nAt each Steubenville Youth Conference\, teens experience a life-changing encounter with Jesus Christ that ignites their faith\, strengthens their prayer life\, and empowers them to live on mission long after the conference ends. All rising 9th graders through graduated seniors are invited to participate.  \nLimited spaces available. Register here: https://login.stacksports.com/login?client_id=612b0399b1854a002e427f78&redirect_uri=https://core-api.bluesombrero.com/login/redirect/portal/27272&app_name=Catholic+Church+of+St.+Ann&portalid=27272&instancekey=tshq \n 
URL:https://st-ann.org/event/steubenville-youth-conference-registration-july-10-12/
ATTACH;FMTTYPE=image/jpeg:https://st-ann.org/wp-content/uploads/2026/02/steubenville.jpg
END:VEVENT
END:VCALENDAR